BEGIN:VCALENDAR
VERSION:2.0
PRODID:Quicksite
NAME:Calendrier
X-WR-CALNAME:Calendrier
REFRESH-INTERVAL;VALUE=DURATION:PT240M
X-PUBLISHED-TTL:PT240M
BEGIN:VEVENT
UID:69e733e445999
SUMMARY:Festival du Film Vert - Sépia l'odyssée d'une seiche
DESCRIPTION:Film familles
LOCATION:Salle communale à 20 h 00
DTSTART:20260313
DTSTAMP:20260302T153425Z
END:VEVENT
END:VCALENDAR